BEGIN:VCALENDAR
VERSION:2.0
CALSCALE:GREGORIAN
PRODID:-//MyApp//Calendar 1.0//EN
BEGIN:VEVENT
METHOD:PUBLISH
UID:62351@regionalniportaly.cz
DTSTAMP:20260422T080844Z
DTSTART;VALUE=DATE:20260716
DTEND;VALUE=DATE:20260717
SUMMARY:Divadelní představení ROMEO a JULIE na zámku Lnáře
DESCRIPTION:Zveme vás na večerní divadelní představení&nbsp\;ROMEO a JULIE&nbsp\;do zámecké areálu Lnáře (45 km od Plzně\, 8 km od Blatné\, nedaleko Strakonic a Písku).čtvrtek 16. července&nbsp\;nebopátek 17. červencevždy od 21.00 hodin\, s možností přijít o hodinku dříve\, užít si krásnou zahradu\, zámecký bazén a po představení zůstat o hodinku déle na night piknik pod hvězdami.Ubytování na zámku je možné:&nbsp\;www.zameklnare.cz.Nabízíme emocemi naplněný zážitek\, kulturní představení od známého divadelního spolku Kašpar (režie Jakub Špalek\, Divadlo v Celetné).&nbsp\;&nbsp\;Romeo a Julie (W. Shakespeare) je příběh\, který si po staletí zachoval své magické kouzlo a&nbsp\;v létě 2026 bude vše zvýrazněno atmosférou francouzské zámecké zahrady Lnáře plus živou hudbou. Režisér Jakub Špalek (znáte jej z filmu Šakalí léta nebo Jízda) dává prostor 8 hercům z divadelního spolku Kašpar\, Divadlo v Celetné (opakovaně jste je mohli vidět kupř. na hradu Kašperk v Shakespearovo dramatech). Výsledek stojí za zhlédnutí i potlesk.&nbsp\;Představení na zámku Lnáře se koná v rámci skvělé celorepublikové divadelní akce&nbsp\;Kašparův velký výlet 2026&nbsp\;ROMEO a JULIE - vstupenky (ceny platné do 22.2. a pouze pro prvních 50 kupujících - NEODKLÁDEJTE REZERVACI)16.7.2026 (čtvrtek)\, od 21.00 hodin\, v ceně od 590 Kč (nižší cena do 22.2.)17.7.2026 (pátek)\, od 21.00 hodin\, v ceně od 690 Kč (nižší cena do 22.2.)(vždy s možností nočního pikniku v zahradě zámku\, koupání v zámeckém bazénu\, přikoupením prohlídky zámku nebo ubytování ve dvoulůžkových pokojích)&nbsp\;ROMEO A JULIE / William Shakespeare – klasika – lovestory – napětíMonteci\, Kapuleti a Kašpaři!Nejslavnější milostný příběh v dynamické úpravě pro osm postav. Dobové tance a písně\, souboje a samozřejmě balkon. A láska – ta největší!&nbsp\;Text patřící k vrcholným tragédiím tohoto mýty opředeného autora se divadelníci rozhodli adaptovat na míru osmi postavám\, aniž by se cokoliv ubralo na sdělnosti příběhu a síle prožitku\, kterou tato hra nese. Původních více jak dvacet postav schází tedy opravdu málokomu.&nbsp\;Hrají: Daniel Pivoda Ondráček\, Tereza Slámová\, Jan Zadražil\, Eva Elsnerová\, Miloslav Tichý\, Štěpán Coufal\, Kristián Stolařík\, František Kreuzmann -&nbsp\;Divadelní spolek Kašpar (Divadlo v Celetné).Režie: Jakub Špalek.&nbsp\;Délka 1 hodina 40 minutbez přestávky&nbsp\;https://www.divadlovceletne.cz/program/romeo-a-julie-open-air/&nbsp\;V areálu pro vás bude připravena možnost zakoupit si občerstvení\, toalety jsou na zámku\, v nabídce je také ubytování v zámeckých pokojích (rezervace přímo na&nbsp\;www.zameklnare.cz). Představení se hraje po dohodě s divadelníky za každého počasí\, připravte si\, prosím\, pláštěnky\, které nebudete jistě potřebovat\, plavky\, které využijete v zámeckém bazéně 300 metrů od jeviště na noční romantické koupání.&nbsp\;V zámeckém areálu připravujeme i další akce:24.-26.4. Vítání jara na zámku Lnáře (program pro celou rodinu)ARTcamp - slet umělcůKoncerty: Janek Ledecký
LOCATION:Lnáře
END:VEVENT
END:VCALENDAR