BEGIN:VCALENDAR
VERSION:2.0
CALSCALE:GREGORIAN
PRODID:-//MyApp//Calendar 1.0//EN
BEGIN:VEVENT
METHOD:PUBLISH
UID:61901@regionalniportaly.cz
DTSTAMP:20260422T153609Z
DTSTART;VALUE=DATE:20260113
DTEND;VALUE=DATE:20260114
SUMMARY:Světoznámé kvarteto Cello Republic vystoupí v Příbrami
DESCRIPTION:Světoznámé kvarteto Cello Republic vystoupí v úterý 13. ledna 2026 v Příbrami.\nKoncert bude v příbramském Divadle Antonína Dvořáka odstartován v úterý 13. ledna 2026 v 19:00 hod. \n\nInformace o kapele: https://www.100promotion.net/cello_republic \nLink na předprodej vstupenek: https://www.ticketportal.cz/event/CELLO-REPUBLIC-12003169?idp=120008118.\n
LOCATION:Příbram
END:VEVENT
END:VCALENDAR