BEGIN:VCALENDAR
VERSION:2.0
CALSCALE:GREGORIAN
PRODID:-//MyApp//Calendar 1.0//EN
BEGIN:VEVENT
METHOD:PUBLISH
UID:59154@regionalniportaly.cz
DTSTAMP:20260422T152156Z
DTSTART;VALUE=DATE:20251026
DTEND;VALUE=DATE:20251027
SUMMARY:Taneční prodloužená RETRO Z3\, Z4 a Z5.
DESCRIPTION:Místo: Divadlo Příbram - Estrádní sál\nZačátek akce:26. 10. 2025 19:00Konec akce:26. 10. 2025 21:00
LOCATION:Příbram
END:VEVENT
END:VCALENDAR