BEGIN:VCALENDAR
VERSION:2.0
CALSCALE:GREGORIAN
PRODID:-//MyApp//Calendar 1.0//EN
BEGIN:VEVENT
METHOD:PUBLISH
UID:59148@regionalniportaly.cz
DTSTAMP:20260422T181742Z
DTSTART;VALUE=DATE:20251023
DTEND;VALUE=DATE:20251024
SUMMARY:Cimbal Brothers
DESCRIPTION:Pronájem. Jedinečné hudební spojení\, světové hity\, filmová hudba\, folklór a vážná hudba s rockovým nádechem. Cimbal Brothers zahraje filmovou hudbu od Hanse Zimmera\, Johana Williamse či Ennia Moricconeho. Zazní také písně od interpretů a kapel jako QUEEN\, Metallica\, Coldplay\, The Beatles či Billie Eilish a další.Tento koncert je speciální nejen tím\, že tradiční slovenský folklórní hudební nástroj hraje tak netradiční repertoár\, ale právě svou magickou atmosférou díky stovkám LED svíček na pódiu.\nZačátek akce:23. 10. 2025 19:00Konec akce:23. 10. 2025 20:30
LOCATION:Příbram
END:VEVENT
END:VCALENDAR