BEGIN:VCALENDAR
VERSION:2.0
CALSCALE:GREGORIAN
PRODID:-//MyApp//Calendar 1.0//EN
BEGIN:VEVENT
METHOD:PUBLISH
UID:59147@regionalniportaly.cz
DTSTAMP:20260422T153843Z
DTSTART;VALUE=DATE:20251023
DTEND;VALUE=DATE:20251024
SUMMARY:VK TROX Příbram - AERO Odolena Voda
DESCRIPTION:Mistrovské utkání Extraligy mužůMísto konání:Sportovní hala Příbram\nZačátek akce:23. 10. 2025 18:00\nKonec akce:23. 10. 2025 20:00
LOCATION:Příbram
END:VEVENT
END:VCALENDAR