BEGIN:VCALENDAR
VERSION:2.0
CALSCALE:GREGORIAN
PRODID:-//MyApp//Calendar 1.0//EN
BEGIN:VEVENT
METHOD:PUBLISH
UID:59146@regionalniportaly.cz
DTSTAMP:20260422T145643Z
DTSTART;VALUE=DATE:20251021
DTEND;VALUE=DATE:20251022
SUMMARY:Bílá nemoc
DESCRIPTION:Do společnosti na pokraji války a s nacionalistickým vládcem v čele přichází z Číny pandemie nemoci\, na niž není lék. Připomíná vám to něco? Ne\, nejde o shrnutí posledních let\, ale o výchozí situaci slavného dramatu Karla Čapka z roku 1937.Když doktor Galén proti bílé nemoci lék nalezne\, má pro jeho distribuci jedinou podmínku: své tajemství vydá\, pokud se všechny vlády dohodnou na mezinárodním míru. V zemi\, kterou vede nacionálně militantní Maršál\, se zdá taková podmínka nemyslitelná. Maršál cítí jako svou svatou povinnost skrze válku pozvednout národ. Zbrojí se a mnozí na zbrojení vydělávají. Galén odmítne léčit\, zachraňuje jen ty nejchudší\, bezbranné. Jde o morálně oprávněný akt občanské neposlušnosti? Nebo je odepření pomoci nemocným podobně fanatický krok jako Maršálovo zuřivé zbrojení? A nejsou tihle zdánliví oponenti spíš dvě strany jedné mince než černobílé protiklady hrdiny a padoucha? Hrají M. Donutil\, E. Salzmannová\, T. Milostný\, M. Kačmarčík\, K. Krhovják\, R. Melša a K. Jedličková. Režie Michal Dočekal.\nZačátek akce:21. 10. 2025 19:00Konec akce:21. 10. 2025 20:30
LOCATION:Příbram
END:VEVENT
END:VCALENDAR