BEGIN:VCALENDAR
VERSION:2.0
CALSCALE:GREGORIAN
PRODID:-//MyApp//Calendar 1.0//EN
BEGIN:VEVENT
METHOD:PUBLISH
UID:59145@regionalniportaly.cz
DTSTAMP:20260422T215117Z
DTSTART;VALUE=DATE:20251021
DTEND;VALUE=DATE:20251022
SUMMARY:Věra Müllerová
DESCRIPTION:Česká a světová klavírní tvorba\; A. Dvořák – Biblické písně v úpravě pro smíšený sbor. Věra Müllerová – klavír\, komorní sbor Codex Temporis Příbram\, um. vedoucí Lukáš Marek.\n \nZačátek akce:21. 10. 2025 18:00Konec akce:21. 10. 2025 19:30
LOCATION:Příbram
END:VEVENT
END:VCALENDAR