BEGIN:VCALENDAR
VERSION:2.0
CALSCALE:GREGORIAN
PRODID:-//MyApp//Calendar 1.0//EN
BEGIN:VEVENT
METHOD:PUBLISH
UID:59128@regionalniportaly.cz
DTSTAMP:20260422T215211Z
DTSTART;VALUE=DATE:20251019
DTEND;VALUE=DATE:20251020
SUMMARY:Pyšná princezna
DESCRIPTION:V Půlnočním království žije pyšná princezna Krasomila. Když odmítne ruku krále Miroslava\, ten se za ní vydá do jejího království v přestrojení za zahradníka. Vypěstuje zpívající květinu a najde si cestu k srdci pyšné princezny. Jejich lásku chce překazit rádce\, který Půlnoční království ovládá. Miroslav a princezna proto uprchnou a na útěku zažijí nečekaná dobrodružství. Princezna se nakonec dovídá\, že její milý není zahradník\, ale král a nic už nestojí v cestě pravé královské svatbě.\nZačátek akce:19. 10. 2025 15:00Konec akce:19. 10. 2025 16:30
LOCATION:Příbram
END:VEVENT
END:VCALENDAR