BEGIN:VCALENDAR
VERSION:2.0
CALSCALE:GREGORIAN
PRODID:-//MyApp//Calendar 1.0//EN
BEGIN:VEVENT
METHOD:PUBLISH
UID:59118@regionalniportaly.cz
DTSTAMP:20260422T132535Z
DTSTART;VALUE=DATE:20251016
DTEND;VALUE=DATE:20251017
SUMMARY:Jak zamést vraždu
DESCRIPTION:Dokonalý zločin prý neexistuje. Anebo ano? Detektivní komedie\, ve které si ani chvilku nebudete jisti tím\, na co se zrovna díváte. Jedná se o skutečný zločin\, anebo si tu s námi někdo hraje? Buďte pozorní ke všem detailům a nechte se překvapit nadmíru originálním rozuzlením jedné velice běžné rodinné situace. Manželství\, které začalo velkou láskou\, se proměnilo v nevyhlášenou válku a odtud už je ke zločinu jenom krůček. Kdo se ale stane pachatelem? Kromě manželů jsou tu totiž ještě další hráči... Dokážete odhadnout\, o co komu jde? Jediná věc\, kterou si v tomto výstředním a napínavém příběhu můžete být jisti\, je\, že si nemůžete být ničím jisti.Režie Martin Vokoun.\nZačátek akce:16. 10. 2025 17:00Konec akce:16. 10. 2025 19:10
LOCATION:Příbram
END:VEVENT
END:VCALENDAR