BEGIN:VCALENDAR
VERSION:2.0
CALSCALE:GREGORIAN
PRODID:-//MyApp//Calendar 1.0//EN
BEGIN:VEVENT
METHOD:PUBLISH
UID:57884@regionalniportaly.cz
DTSTAMP:20260422T133749Z
DTSTART;VALUE=DATE:20251115
DTEND;VALUE=DATE:20251116
SUMMARY:Stezka odvahy / PŘÍBRAM
DESCRIPTION:Stezka odvahy míří do Příbrami!Potkáte ty nejstrašidelnější pohádkové a nadpřirozené bytosti\, které otestují vaši odvahu a dovednosti. Připravte se na temná zákoutí a lehké tematické úkoly pro děti!Těšíme se na všechny malé i velké odvážlivce!&nbsp\;Vhodné pro děti 3 - 10 let📅 Datum: 15.11. 2025⏰&nbsp\;Čas:&nbsp\;Najdete na své zakoupené vstupence📍 Místo: Lesopark Litavka\, Příbram (ul. Lazec)🚩 Start: https://en.mapy.cz/s/kukolurojoKaždých 5 minut pouštíme na stezku skupinku přibližně 5 dětí s rodiči\, které budou mezi sebou soupeřit v odvaze a dovednostech.⚠️Zakoupením vstupenky berete na vědomí a souhlasíte\, že vstupujete na trasu výhradně na vlastní nebezpečí. Za svou bezpečnost a bezpečnost svých dětí zodpovídáte sami. ⚠️
LOCATION:Příbram
END:VEVENT
END:VCALENDAR