BEGIN:VCALENDAR
VERSION:2.0
CALSCALE:GREGORIAN
PRODID:-//MyApp//Calendar 1.0//EN
BEGIN:VEVENT
METHOD:PUBLISH
UID:57071@regionalniportaly.cz
DTSTAMP:20260422T163706Z
DTSTART;VALUE=DATE:20250905
DTEND;VALUE=DATE:20250906
SUMMARY:koncert Mig 21
DESCRIPTION:Chlapecká taneční\, pěvecká a striptérská skupina z Prahy 5 - Smíchova míří v září do Příbrami. Koncert proběhne v Letním kině Příbram.Vstupné:590 KčMísto konání:Příbram - letní kinoZačátek akce:5. 9. 2025 19:00Konec akce:5. 9. 2025 23:45
LOCATION:Příbram
END:VEVENT
END:VCALENDAR