BEGIN:VCALENDAR
VERSION:2.0
CALSCALE:GREGORIAN
PRODID:-//MyApp//Calendar 1.0//EN
BEGIN:VEVENT
METHOD:PUBLISH
UID:57069@regionalniportaly.cz
DTSTAMP:20260422T202855Z
DTSTART;VALUE=DATE:20250905
DTEND;VALUE=DATE:20250906
SUMMARY:Jak zamést vraždu
DESCRIPTION:Místo: Divadlo Příbram - Velká scéna\n \nDokonalý zločin prý neexistuje. Anebo ano? Detektivní komedie\, ve které si ani chvilku nebudete jisti tím\, na co se zrovna díváte. Jedná se o skutečný zločin\, anebo si tu s námi někdo hraje? Buďte pozorní ke všem detailům a nechte se překvapit nadmíru originálním rozuzlením jedné velice běžné rodinné situace. Manželství\, které začalo velkou láskou\, se proměnilo v nevyhlášenou válku a odtud už je ke zločinu jenom krůček. Kdo se ale stane pachatelem? Kromě manželů jsou tu totiž ještě další hráči... Dokážete odhadnout\, o co komu jde? Jediná věc\, kterou si v tomto výstředním a napínavém příběhu můžete být jisti\, je\, že si nemůžete být ničím jisti.Režie Martin Vokoun.Začátek akce:5. 9. 2025 19:00Konec akce:5. 9. 2025 21:10
LOCATION:Příbram
END:VEVENT
END:VCALENDAR