BEGIN:VCALENDAR
VERSION:2.0
CALSCALE:GREGORIAN
PRODID:-//MyApp//Calendar 1.0//EN
BEGIN:VEVENT
METHOD:PUBLISH
UID:57066@regionalniportaly.cz
DTSTAMP:20260422T164855Z
DTSTART;VALUE=DATE:20250830
DTEND;VALUE=DATE:20250831
SUMMARY:Naďa Válová band a Canzone Příbram
DESCRIPTION:Koncert na kouzelném místě Lesního divadlo Skalka za doprovodu Martina Rufera\, Jana Tenglera a Ženského pěveckého sboru Canzone Příbram. Umělecká magie Nadi Válové naplno pohltí každého\, kdo je na koncertě divákem\, pak už se stáváte součástí a dobrovolně se necháváte přenášet do světa lásky\, ztráty i naděje. Přijďte a dostane se Vám zážitku s velkým Z.\n Vstupné:450Místo konání:Na Skalce Lesní Divadlo v Novém PodlesíZačátek akce:30. 8. 2025 19:00Konec akce:30. 8. 2025 20:30
LOCATION:Příbram
END:VEVENT
END:VCALENDAR