BEGIN:VCALENDAR
VERSION:2.0
CALSCALE:GREGORIAN
PRODID:-//MyApp//Calendar 1.0//EN
BEGIN:VEVENT
METHOD:PUBLISH
UID:57064@regionalniportaly.cz
DTSTAMP:20260422T200409Z
DTSTART;VALUE=DATE:20250829
DTEND;VALUE=DATE:20250830
SUMMARY:Figaro - divadlo
DESCRIPTION:Místo: Divadlo Příbram - Letní scéna\n \nHudební komedie na motivy děl W. A. Mozarta\, L. da Ponteho a P. A. Beaumarchaise o záletném hraběti\, kterého potrestá i napraví láska\, důvtip a šarm nejen vlastní manželky\, ale také mazaného sluhy Figara a jeho vtipné a energické milé Zuzanky. S úctou i nadhledem vzdáváme touto hrou se zpěvy hold klasikovi francouzské komedie\, ale také geniální hudbě W. A. Mozarta\, kterému právě díky "Figarce" jeho Češi rozuměli a rozumějí. Hrají M. Holzknecht\, P. Florián\, L. Valenová\, E. Nejedlá\, K. Grygar\, K. Fixová\, J. Someš\, R. Tyleček\, L. Typlt\, A. Fixová a A. Šmídová. Režie Petr Hruška.Začátek akce:29. 8. 2025 20:00Konec akce:29. 8. 2025 22:00
LOCATION:Příbram
END:VEVENT
END:VCALENDAR