BEGIN:VCALENDAR
VERSION:2.0
CALSCALE:GREGORIAN
PRODID:-//MyApp//Calendar 1.0//EN
BEGIN:VEVENT
METHOD:PUBLISH
UID:57062@regionalniportaly.cz
DTSTAMP:20260422T204842Z
DTSTART;VALUE=DATE:20250826
DTEND;VALUE=DATE:20250827
SUMMARY:Balada pro banditu
DESCRIPTION:Místo: Divadlo Příbram - Letní scéna\n \nPříběh Nikoly Šuhaje loupežníka\, inspirovaný románem Ivana Olbrachta\, se dočkal jevištní muzikálové verze v 70. letech minulého století v brněnském Divadle na provázku. Málokdo tehdy tušil\, že text napsal minulému režimu nepohodlný a zapovězený Milan Uhde (jako autor byl oficiálně uveden režisér první inscenace Zdeněk Pospíšil). V roce 1978 byl podle této divadelní hry natočen stejnojmenný film (v režii Vladimíra Síse). Od té doby stačili Nikola\, jeho láska Eržika\, Mageri\, zbojníci\, četníci a další hrdinové příběhu získat nesmrtelnost a písně nesmazatelně zlidovět - alespoň v paměti a srdcích svých diváků a posluchačů. I v příbramském divadle se ke zbojníku Nikolovi vrátíme s láskou a se vší úctou a pokorou k síle příběhu o veliké lásce a zradě\, stejně jako k písničkám\, které nás stále znovu těší a dojímají. Věříme\, že stejně jako vás. V naší inscenaci nebude chybět ani živá kapela přímo na jevišti. Režie Milan Schejbal\,Začátek akce:26. 8. 2025 20:00Konec akce:26. 8. 2025 21:50
LOCATION:Příbram
END:VEVENT
END:VCALENDAR