BEGIN:VCALENDAR
VERSION:2.0
CALSCALE:GREGORIAN
PRODID:-//MyApp//Calendar 1.0//EN
BEGIN:VEVENT
METHOD:PUBLISH
UID:56616@regionalniportaly.cz
DTSTAMP:20260422T095219Z
DTSTART;VALUE=DATE:20260801
DTEND;VALUE=DATE:20260802
SUMMARY:Den princezen a rytířů - Zámek Blatná
DESCRIPTION:VÍTEJTE V&nbsp\;POHÁDKOVÉM SVĚTĚ PLNÉM KOUZEL\, HER A FANTAZIEJiž tradiční rodinný festival vám přinese opět spoust zábavy jak pro ty malé\, tak pro ty velké.Vstupte s námi do&nbsp\;říše pohádek\, kde se&nbsp\;splní sny malým i velkým. Nejkrásnější české zámky hostí&nbsp\;Pohádkový svět plný kouzel\, her a&nbsp\;fantazie. Den princezen a rytířů je věnovaný&nbsp\;českým pohádkám\, princeznám\, rytířským soubojům.Programem jako vždy provede&nbsp\;Sabina Laurinová&nbsp\;společně s princi&nbsp\;Mišuge&nbsp\;z Brna&nbsp\;a&nbsp\;Jakubem z Toušic&nbsp\;a dalšími&nbsp\;princeznami a rytíři.&nbsp\;Do světa fantazie vás vtáhnou nejen pohádkoví interpreti\, v Magic zóně si pak užijete ještě víc včetně přímého kontaktu s vytupujícími a přednostním focením s nimi.&nbsp\;Na zámku Blatná se můžete těšit především na Lollipopz\, Míšu&nbsp\;Tomešovou\, Karol a Kvído\, Maxmiliána Dolanského\, Adélu&nbsp\;Zouharovou\, Adélku Hesovou\, Pigy a Lilly\, LilieN&nbsp\;a další.Detailní přehled najdete na stránce&nbsp\;www.denprincezen.cz\,řed zakoupením vstupenek si přečtěte&nbsp\;návštěvní řád.Změny v&nbsp\;programu vyhrazeny.
LOCATION:Blatná
END:VEVENT
END:VCALENDAR