BEGIN:VCALENDAR
VERSION:2.0
CALSCALE:GREGORIAN
PRODID:-//MyApp//Calendar 1.0//EN
BEGIN:VEVENT
METHOD:PUBLISH
UID:56609@regionalniportaly.cz
DTSTAMP:20260422T113512Z
DTSTART;VALUE=DATE:20260226
DTEND;VALUE=DATE:20260227
SUMMARY:Ludovico Einaudi Music | Příbram
DESCRIPTION:Nenechte si ujít nezapomenutelný večer krásné hudby\, kde zazní melodie jednoho z nejlepších pianistů a skladatelů na světe\, Ludovica Einaudiho&nbsp\;v podání přední&nbsp\;české&nbsp\;klavíristky Lucie Kubátové.Einaudi je známý svými jednoduchými\, ale strašidelně krásnými minimalistickými díly pro klavír a ohromující filmovou hudbou. Za téměř třicet let své činnosti vydal řadu alb\, která se dostala na přední příčky poslechovosti\, vyprodává nejprestižnější koncertní sály po celém světě a jeho hudba zazněla v mnoha slavných filmech (Nedotknutelní\, Doktor Živago\, To je Anglie\, Nomadland a další).Tento jedinečný koncert nabídne více než jen hudbu. Symfonie třpytivých svíček rozsvítí celý prostor a přidá na mystičnu a kouzlu večera.&nbsp\;Každá svíčka přispěje k vytvoření kouzelného prostředí\, které dokonale doplní hudební zážitek.V rámci Evropské tour alternují také: František Panáček a Alexandr Starý.&nbsp\;Akce je přístupná od 12 let. Každý účastník musí předložit platnou vstupenku&nbsp\; zakoupenou výhradně v síti SMS ticket.
LOCATION:Příbram
END:VEVENT
END:VCALENDAR