BEGIN:VCALENDAR
VERSION:2.0
CALSCALE:GREGORIAN
PRODID:-//MyApp//Calendar 1.0//EN
BEGIN:VEVENT
METHOD:PUBLISH
UID:56537@regionalniportaly.cz
DTSTAMP:20260422T062126Z
DTSTART;VALUE=DATE:20250913
DTEND;VALUE=DATE:20250914
SUMMARY:Vrškamýcká Pivosláva 2025
DESCRIPTION:Hudba\, pivo\, skvělé jídlo a zábava pro celou rodinu!&nbsp\;Přijďte si užít půl dne a noc plnou zážitků – čeká vás již 10. ročník oblíbené akce\, kde ochutnáte to nejlepší ze sedmi minipivovarů\, doplněné o širokou nabídku vynikajícího jídla a občerstvení. Celý den vás bude doprovázet živá rocková muzika a skvělá atmosféra!Děti (do 15 let zdarma) se mohou těšit na bohatý program: vystoupení sokolníka\, psí agility\, zábavné divadelní představení Ať žijí duchové\, dechberoucí ohňovou show\, rytířské souboje\, řemeslné stánky nebo laserovou střelnici.Přijeďte strávit pohodový den v nádherné přírodě\, s výhledem na zříceninu středověkého hradu Vrškamýk (Hunec) – ideální místo pro výlet s rodinou\, přáteli i partou kolegů.❤️ Těšíme se na vaši návštěvu – bude to den\, na který jen tak nezapomenete!
LOCATION:Kamýk nad Vltavou
END:VEVENT
END:VCALENDAR