BEGIN:VCALENDAR
VERSION:2.0
CALSCALE:GREGORIAN
PRODID:-//MyApp//Calendar 1.0//EN
BEGIN:VEVENT
METHOD:PUBLISH
UID:56514@regionalniportaly.cz
DTSTAMP:20260422T234625Z
DTSTART;VALUE=DATE:20250816
DTEND;VALUE=DATE:20250817
SUMMARY:Cavewoman - divadlo
DESCRIPTION:Místo: Divadlo Příbram - Letní scéna\n \nPo více než patnácti letech úspěšného uvádění inscenace Caveman přichází agentura Point s Cavewoman.Mysleli jste si\, že Vás už nic nedokáže rozesmát? Přijďte se podívat na volné pokračování kultovní one man show Caveman a seznámit se s hrdinkou nového představení o jeskynní ženě Cavewoman. Pobaví Vás trochu jiný pohled na lásku a partnerské vztahy\, na to\, co dělá muže mužem a ženu ženou\, v komedii\, která se s vtipným nadhledem zamýšlí nad věčným soubojem obou pohlaví."Obhajoba jeskynní ženy" Emmy Peirsonové je humorným pohledem na muže a ženy\, snažící se žít vedle sebe na stejné planetě. Zábavné pojetí věčného souboje těchto dvou pohlaví\, pro změnu ze ženské perspektivy\, volně navazuje na slavnou Beckerovu one man show Caveman. Diváci jsou pozváni do její "jeskyně"\, kde s nimi v odlehčeném duchu sdílí své starosti\, pochybnosti a pocity úzkosti pramenící z obavy\, zda si vybrala toho pravého. Zároveň se vtipně zamýšlí nad spoustou dalších témat\, například proč mají ženy hrůzu z tloušťky\, nebo co způsobuje jejich nepředvídatelné a často prudké změny v chování.Hraje: Daniela ChoděrováZačátek akce:16. 8. 2025 20:00Konec akce:16. 8. 2025 21:30
LOCATION:Příbram
END:VEVENT
END:VCALENDAR