BEGIN:VCALENDAR
VERSION:2.0
CALSCALE:GREGORIAN
PRODID:-//MyApp//Calendar 1.0//EN
BEGIN:VEVENT
METHOD:PUBLISH
UID:56512@regionalniportaly.cz
DTSTAMP:20260422T181502Z
DTSTART;VALUE=DATE:20250811
DTEND;VALUE=DATE:20250815
SUMMARY:Tajemství stroje času - příměstský tábor
DESCRIPTION:Příměstský tábor Tajemství stroje času zavede děti na vzrušující cestu do minulosti i budoucnosti. Děti budou řešit záhadu rozbitého stroje času.Vstupné:2.500\,-\nMísto konání:Dům dětí a mládeže Příbram\nZačátek akce:11. 8. 2025\nKonec akce:15. 8. 2025
LOCATION:Příbram
END:VEVENT
END:VCALENDAR