BEGIN:VCALENDAR
VERSION:2.0
CALSCALE:GREGORIAN
PRODID:-//MyApp//Calendar 1.0//EN
BEGIN:VEVENT
METHOD:PUBLISH
UID:56509@regionalniportaly.cz
DTSTAMP:20260422T183758Z
DTSTART;VALUE=DATE:20250804
DTEND;VALUE=DATE:20250808
SUMMARY:Kouzelný svět zvířat - příměstský tábor
DESCRIPTION:Příměstský tábor Kouzelný svět zvířat přenese děti do fascinujícího světa zvířat a přírody.\nBěhem tábora se děti seznámí s různými druhy zvířat\, jejich životem a chováním\, a zažijí spoustu zábavy při vytváření zvířecích masek\, her a výletů do přírody.\nNaučí se také\, jak se správně starat o domácí zvířata a proč je ochrana přírody důležitá. Tábor podporuje zvídavost\, kreativitu a lásku k přírodě.Vstupné:2.500\,-\nMísto konání:Dům dětí a mládeže Příbram\nZačátek akce:4. 8. 2025\nKonec akce:8. 8. 2025
LOCATION:Příbram
END:VEVENT
END:VCALENDAR