BEGIN:VCALENDAR
VERSION:2.0
CALSCALE:GREGORIAN
PRODID:-//MyApp//Calendar 1.0//EN
BEGIN:VEVENT
METHOD:PUBLISH
UID:56503@regionalniportaly.cz
DTSTAMP:20260422T204930Z
DTSTART;VALUE=DATE:20250801
DTEND;VALUE=DATE:20250802
SUMMARY:Robert Křesťan a Druhá tráva
DESCRIPTION:Open air koncert legendy folk\, country a bluegrassové scény zaměřený na průřez tvorby Roberta Křesťana z celé doby existence skupiny\, nyní s důrazem na skladby z posledních studiových alb Díl první a Díl druhý.\nZa obě tato alba získala Druhá tráva Ceny Anděl v kategorii folk\, Robert Křesťan byl navíc uveden do Síně slávy.Vstupné:200 Kč předprodej250 Kč na místě\nMísto konání:Lesní divadlo Skalka\nZačátek akce:1. 8. 2025 20:00\nKonec akce:1. 8. 2025 23:00
LOCATION:Příbram
END:VEVENT
END:VCALENDAR