BEGIN:VCALENDAR
VERSION:2.0
CALSCALE:GREGORIAN
PRODID:-//MyApp//Calendar 1.0//EN
BEGIN:VEVENT
METHOD:PUBLISH
UID:55967@regionalniportaly.cz
DTSTAMP:20260422T200315Z
DTSTART;VALUE=DATE:20250712
DTEND;VALUE=DATE:20250713
SUMMARY:Caveman - divadlo
DESCRIPTION:Místo: Divadlo Příbram - Letní scéna\nMáte chuť se rozesmát až k slzám? Přijďte se podívat na slavnou one man show o tom\, co dělá muže mužem a ženu ženou\, o rozdílech mezi námi\, o lásce\, partnerství a vtipně utajených kvalitách obou pohlaví. Režie Patrik Hartl. Hraje Jan Holík/Jakub Slach.Začátek akce:12. 7. 2025 20:00Konec akce:12. 7. 2025 22:00
LOCATION:Příbram
END:VEVENT
END:VCALENDAR