BEGIN:VCALENDAR
VERSION:2.0
CALSCALE:GREGORIAN
PRODID:-//MyApp//Calendar 1.0//EN
BEGIN:VEVENT
METHOD:PUBLISH
UID:55966@regionalniportaly.cz
DTSTAMP:20260422T163646Z
DTSTART;VALUE=DATE:20250711
DTEND;VALUE=DATE:20250712
SUMMARY:Marek Ztracený
DESCRIPTION:ČEKÁNÍ JE U KONCE. MAREK ZTRACENÝ OHLÁSIL NÁVRAT NA PÓDIA!\nMarek Ztracený ohlašuje návrat na koncertní pódia a přesně po dvou letech se tak v červnu roku 2025 opět představí nedočkavým fanouškům naživo v rámci svého plánovaného ZPÁTKY TOUR!\nJeště před samotným konáním dnes již legendárních tří koncertů v Edenu v roce 2023 ohlásil Marek koncertní pauzu\, aby se mohl věnovat svému synovi a rodině. „V jednu chvíli jsem si uvědomil\, jak to všechno letí\, a že některý věci\, jako třeba dětství mého syna\, nejdou vrátit a jednou bych toho mohl litovat\,“ upřesnil tehdy emotivně na konci koncertu důvody pauzy a slíbil\, že fanouškům všechno do sytosti vynahradí.\nSvého slova dostál a dnes oznamuje své historicky největší turné s názvem ZPÁTKY TOUR\, které se odehraje v roce 2025\, tedy přesně po dvou letech po jeho posledním veřejném vystoupení. „Ty dva roky mimo pódia pro mě byly a vlastně stále jsou neskutečně cenné. Znamenaly pro mě možnost věnovat se blízkým\, načerpat novou energii a taky se zamyslet\, co chci v hudbě a životě dělat dál a na čem nejvíc záleží. A na mých fanoušcích mi sakra záleží. Takže milá Ztracená rodino\, příští rok v červnu začne nová etapa a chtěl bych vám poděkovat\, že jste na mě počkali\,“ vzkazuje fanouškům Marek a dodává: „Naposledy jste přijeli vy za mnou do Edenu a tentokrát vám to oplatím a pojedu já za vámi. Nebude to jen tak nějaké turné\, bude to největší\, a hlavně nejenergičtější turné\, které jsme zatím uspořádali\, a čeká vás mnohem víc než koncert. Jen naznačím\, že se můžete těšit na skvělou (pěveckou kometu poslední doby) Kateřinu Marii Tichou jakožto hudebního hosta a zachraňovat životy se budou se záchranářem Markem Dvořákem. Slibuji\, že si na tomhle ZPÁTKY TOUR dáme extra záležet\, a nemůžu se dočkat té pověstné atmosféry\, která na našich koncertech panuje\,“ říká s očekáváním a nadšením Marek Ztracený.\nV posledních několika letech zažil Marek Ztracený nebývalý rozmach\, který potvrzuje jeho výsadní postavení nejpopulárnějšího zpěváka na české hudební scéně. Je několikanásobným Českým slavíkem\, držitelem řady zlatých a platinových desek a jeho písničky patří vůbec k těm nejhranějším v českých rádiích. Tento talentovaný zpěvák a skladatel se dokázal nejen prosadit na vrcholu hitparád\, ale i získat srdce svých fanoušků díky neochvějné autentičnosti a charismatu.\nDosud nejvýznamnějším momentem jeho kariéry však byly bezpochyby tři vyprodané koncerty na stadionu v Edenu v červnu 2023\, na kterých bylo více jak 100 000 fanoušků. Koncerty nejenže ukázaly jeho rostoucí popularitu\, ale také schopnost spojit lidi prostřednictvím hudby. Atmosféra v Edenu byla elektrizující a Marek svým vystoupením potvrdil\, že patří mezi naše nejlepší interprety. Tento úspěch je jasným důkazem jeho talentu a tvrdé práce\, kterou věnuje své kariéře.\nA aby čekání nebylo tak dlouhé\, naznačil Marek Ztracený hned několik dalších plánů. Kromě oznámeného turné bude postupně odhalovat i řadu novinek\, jako jsou nová píseň a videoklip\, vánoční překvapení\, nový web\, logo\, merch a další.\nVstupenky na ZPÁTKY TOUR startují prodej v pondělí 7. 10. od 18:00 a vzhledem k rekordnímu zájmu o předchozí Markova turné či koncerty v Edenu\, navíc po dvouleté pauze\, lze očekávat obrovský zájem fanoušků.Vstupné:Dospělý 1090 KčDítě 490 Kč\nMísto konání:Příbram - letní kinoZačátek akce:11. 7. 2025 14:00Konec akce:11. 7. 2025 23:00
LOCATION:Příbram
END:VEVENT
END:VCALENDAR