BEGIN:VCALENDAR
VERSION:2.0
CALSCALE:GREGORIAN
PRODID:-//MyApp//Calendar 1.0//EN
BEGIN:VEVENT
METHOD:PUBLISH
UID:55941@regionalniportaly.cz
DTSTAMP:20260422T234636Z
DTSTART;VALUE=DATE:20251219
DTEND;VALUE=DATE:20251220
SUMMARY:Vzpomínka na Bakču\, koncert E!E
DESCRIPTION:Vzpomínka na našeho kytaristu Petra Bakalerova (Bakču).Host: kapela Pod Stolem (Plzeň)
LOCATION:Příbram
END:VEVENT
END:VCALENDAR