BEGIN:VCALENDAR
VERSION:2.0
CALSCALE:GREGORIAN
PRODID:-//MyApp//Calendar 1.0//EN
BEGIN:VEVENT
METHOD:PUBLISH
UID:55178@regionalniportaly.cz
DTSTAMP:20260422T164719Z
DTSTART;VALUE=DATE:20250618
DTEND;VALUE=DATE:20250619
SUMMARY:Kavárna U Nulté hodiny
DESCRIPTION:Místo: Divadlo Příbram - D-klub\nHostem Petra Bednáře bude herec Saša Rašilov.Začátek akce:17. 6. 2025 19:00Konec akce:17. 6. 2025 21:00
LOCATION:Příbram
END:VEVENT
END:VCALENDAR