BEGIN:VCALENDAR
VERSION:2.0
CALSCALE:GREGORIAN
PRODID:-//MyApp//Calendar 1.0//EN
BEGIN:VEVENT
METHOD:PUBLISH
UID:55176@regionalniportaly.cz
DTSTAMP:20260422T202748Z
DTSTART;VALUE=DATE:20250621
DTEND;VALUE=DATE:20250622
SUMMARY:Divadelní košt vín
DESCRIPTION:Místo: Divadlo Příbram \nZveme Vás na ochutnávku vín předních moravských vinařů. Ochutnáte speciality moderní gastronomie. Příjemnou atmosféru doplní svou hudbou DJ Tomáš Vácha. Naléváme jen do označených skleniček. Vstupné 120 Kč (sklenička na víno v ceně). V případě vlastní skleničky na víno je vstupné 70 Kč (na skleničku dostanete samolepku). Venkovní prostory Divadla A. Dvořáka Příbram. V případě nepříznivého počasí se akce přesouvá do vnitřních prostor Estrádního sálu.\nZačátek akce: 21. 6. 2025 11:00Konec akce: 21. 6. 2025 13:00
LOCATION:Příbram
END:VEVENT
END:VCALENDAR