BEGIN:VCALENDAR
VERSION:2.0
CALSCALE:GREGORIAN
PRODID:-//MyApp//Calendar 1.0//EN
BEGIN:VEVENT
METHOD:PUBLISH
UID:55170@regionalniportaly.cz
DTSTAMP:20260423T002655Z
DTSTART;VALUE=DATE:20250620
DTEND;VALUE=DATE:20250621
SUMMARY:Bílý palcát aneb
DESCRIPTION:Místo: Divadlo Příbram - Velká scéna\nPronájem. Společenská komedie\, ve které so do milostného trojúhelníku dostane studentka sociologie Věra\, člen extremistické skupiny Bílý palcát Jaromír a romský intelektuál Arpád. Hra parodickým a fraškoidním způsobem vykresluje konflikt mezi extremistickými skupinami a menšinami. Kromě zobrazení společenské problematiky\, však také přichází s řešením.Hra získala čestné uznání v soutěži dramatických textů na cenách Alfréda Radoka za rok 2007 a byla rovněž přeložena do maďarštiny.\nZačátek akce: 20. 6. 2025 19:00
LOCATION:Příbram
END:VEVENT
END:VCALENDAR