BEGIN:VCALENDAR
VERSION:2.0
CALSCALE:GREGORIAN
PRODID:-//MyApp//Calendar 1.0//EN
BEGIN:VEVENT
METHOD:PUBLISH
UID:55169@regionalniportaly.cz
DTSTAMP:20260423T002053Z
DTSTART;VALUE=DATE:20250619
DTEND;VALUE=DATE:20250620
SUMMARY:Spojeni tancem XIII
DESCRIPTION:Místo: Divadlo Příbram - Velká scéna\nPronájem. Závěrečné představení žáků Tanečního studia ELPÉ\, kde se na jednom jevišti v průběhu večera představí všechny věkové skupiny studia\, v tematicky rozmanitých choreografiích. Na závěr bude uvedeno profesionální představení ze současné taneční scény.\nZačátek akce: 19. 6. 2025 17:30
LOCATION:Příbram
END:VEVENT
END:VCALENDAR