BEGIN:VCALENDAR
VERSION:2.0
CALSCALE:GREGORIAN
PRODID:-//MyApp//Calendar 1.0//EN
BEGIN:VEVENT
METHOD:PUBLISH
UID:55168@regionalniportaly.cz
DTSTAMP:20260422T222157Z
DTSTART;VALUE=DATE:20250618
DTEND;VALUE=DATE:20250619
SUMMARY:Los Trumberos
DESCRIPTION:Místo: Divadlo Příbram - D-klub\nKoncert hereckého bandu.\nZačátek akce: 18. 6. 2025 19:00Konec akce: 18. 6. 2025 21:00
LOCATION:Příbram
END:VEVENT
END:VCALENDAR