BEGIN:VCALENDAR
VERSION:2.0
CALSCALE:GREGORIAN
PRODID:-//MyApp//Calendar 1.0//EN
BEGIN:VEVENT
METHOD:PUBLISH
UID:55162@regionalniportaly.cz
DTSTAMP:20260422T202829Z
DTSTART;VALUE=DATE:20250612
DTEND;VALUE=DATE:20250613
SUMMARY:Kdyby tisíc klarinetů
DESCRIPTION:Místo: Divadlo Příbram - Velká scéna\nLegendární hudební revue o tom\, že ve válce sice múzy mlčí\, ale někdy se stane zázrak. Pojďte si s námi představit\, jaké by to bylo\, kdyby se všechny zbraně najednou proměnily v hudební nástroje a místo válčení by lidi hráli\, zpívali a tančili. Pak by zřejmě někteří členové posádky nemuseli dezertovat\, začínající reportérka by nenatáčela zprávy o vojenské základně\, ale o právě založeném divadelním souboru - a možná by se k němu dokonce přidala! Slavný stejnojmenný český filmový muzikál z roku 1964 vznikl podle "leporela" Jiřího Suchého\, které bylo poprvé uvedeno už v roce 1958 v Divadle Na zábradlí. Od té doby byl původní námět mnohokrát upraven a doplněn\, v Semaforu i na mnoha dalších jevištích. Ani my nechceme kopírovat filmový příběh a oprašovat pamětihodnost. Každé provedení "Klarinetů" však samozřejmě musí být napěchováno nesmrtelnými semaforskými písničkami. Náš soubor představí řadu z těch známých hitů s kapelou pod osvědčeným vedením Zdeňka Dočekala a v již tradičně originální choreografii Martina Packa. Snad vás náš výběr překvapí\, pobaví i potěší\, ať už v divadle anebo na venkovních scénách. Režie Milan Schejbal.\n \nZačátek akce:12. 6. 2025 19:00
LOCATION:Příbram
END:VEVENT
END:VCALENDAR