BEGIN:VCALENDAR
VERSION:2.0
CALSCALE:GREGORIAN
PRODID:-//MyApp//Calendar 1.0//EN
BEGIN:VEVENT
METHOD:PUBLISH
UID:54367@regionalniportaly.cz
DTSTAMP:20260422T204717Z
DTSTART;VALUE=DATE:20250525
DTEND;VALUE=DATE:20250526
SUMMARY:Divadlo patří dětem
DESCRIPTION:Balónky\, klauni\, kolotoče\, písničky pro děti i babičky\, pohádky pod širým nebem i pod střechou a mnohem více zažijete u nás každoročně koncem května. Prodej vstupenek pouze na místě.\nZačátek akce: 25. 5. 2025 09:00\nKonec akce: 25. 5. 2025 11:00
LOCATION:Příbram
END:VEVENT
END:VCALENDAR