BEGIN:VCALENDAR
VERSION:2.0
CALSCALE:GREGORIAN
PRODID:-//MyApp//Calendar 1.0//EN
BEGIN:VEVENT
METHOD:PUBLISH
UID:54364@regionalniportaly.cz
DTSTAMP:20260422T201725Z
DTSTART;VALUE=DATE:20250522
DTEND;VALUE=DATE:20250523
SUMMARY:Kavárna U Nulté hodiny
DESCRIPTION:Hostem Petra Bednáře bude herec Aleš Háma.\nZačátek akce: 22. 5. 2025 19:00Konec akce: 22. 5. 2025 21:00
LOCATION:Příbram
END:VEVENT
END:VCALENDAR