BEGIN:VCALENDAR
VERSION:2.0
CALSCALE:GREGORIAN
PRODID:-//MyApp//Calendar 1.0//EN
BEGIN:VEVENT
METHOD:PUBLISH
UID:54362@regionalniportaly.cz
DTSTAMP:20260422T201517Z
DTSTART;VALUE=DATE:20250520
DTEND;VALUE=DATE:20250521
SUMMARY:Velká bankovní loupež
DESCRIPTION:Velká akční komedie o nejsmělejším lupičském plánu všech dob! Podaří se bance v Minneapolis ochránit vzácný diamant\, anebo bude úspěšnější kanadský gang? Nejde tu jen o banální nástrahy profesionální bankovní ochranky\, ale i o takové pasti\, jako je sklápěcí postel či větrací šachta! Na závěr roku 2024 pro vás zkrátka chystáme bláznivou podívanou. Bizarní prostředí se budou střídat před vašima očima a nástrahy\, které budou muset herci zdolávat\, se zdají nepřekonatelné. I proto jsme ke spolupráci opět přizvali Martina Packa\, kouzelníka nejen jevištního pohybu\, a doufáme\, že v našich hercích probudí i akrobatický talent. Režie Milan Schejbal.\nZačátek akce: 20. 5. 2025 19:00Konec akce: 20. 5. 2025 21:00
LOCATION:Příbram
END:VEVENT
END:VCALENDAR