BEGIN:VCALENDAR
VERSION:2.0
CALSCALE:GREGORIAN
PRODID:-//MyApp//Calendar 1.0//EN
BEGIN:VEVENT
METHOD:PUBLISH
UID:54359@regionalniportaly.cz
DTSTAMP:20260422T203012Z
DTSTART;VALUE=DATE:20250518
DTEND;VALUE=DATE:20250519
SUMMARY:Divadelní únikovka
DESCRIPTION:Vyřešte s přáteli záhadu plnou šifer přímo na našem jevišti.\n \nMísto: Divadlo Příbram - Jeviště Velké scény\nZačátek akce: 18. 5. 2025 18:00\nKonec akce: 18. 5. 2025 20:00
LOCATION:Příbram
END:VEVENT
END:VCALENDAR