BEGIN:VCALENDAR
VERSION:2.0
CALSCALE:GREGORIAN
PRODID:-//MyApp//Calendar 1.0//EN
BEGIN:VEVENT
METHOD:PUBLISH
UID:54353@regionalniportaly.cz
DTSTAMP:20260422T215133Z
DTSTART;VALUE=DATE:20250516
DTEND;VALUE=DATE:20250517
SUMMARY:Dokonalá svatba
DESCRIPTION:Bláznivá komedie zkušeného britského dramatika Robina Hawdona\, který je mistrem ztřeštěných nedorozumění\, záměn a překvapivých situací\, do nichž vrhá svoje zcela všední a současné postavy. Hlavní hrdina Bill se po rozloučení se svobodou probouzí v jiném pokoji\, než ve kterém měl být\, a vedle jiné dívky\, než je jeho nevěsta. Není čas ztrácet čas\, protože na dveře už klepe Billův svědek a za chvíli přijde nastávající i se svou matkou! Nezbývá než okamžitě ze všech sil a za pomoci personálu hotelu všechno utajit a zabránit tragédii. Jenže všechno se ještě zhorší\, když se ukáže\, kdo je ve skutečnosti dívka\, která v ženichově posteli vůbec neměla být. Všechno spěje k nevyhnutelné katastrofě\, která se nakonec ukáže paradoxně být tím nejšťastnějším řešením. Dokonalá svatba je zkrátka dokonalou moderní fraškou. Režie Jan-Jakub Šenkeřík.\nZačátek akce: 16. 5. 2025 16:00\nKonec akce: 16. 5. 2025 18:00
LOCATION:Příbram
END:VEVENT
END:VCALENDAR