BEGIN:VCALENDAR
VERSION:2.0
CALSCALE:GREGORIAN
PRODID:-//MyApp//Calendar 1.0//EN
BEGIN:VEVENT
METHOD:PUBLISH
UID:54291@regionalniportaly.cz
DTSTAMP:20260422T160301Z
DTSTART;VALUE=DATE:20251030
DTEND;VALUE=DATE:20251031
SUMMARY:Martina pártlová/první a poslední?/koncertní turné 2025- příbram
DESCRIPTION:pátek 31.10.2025 20:00Divadlo A. Dvořáka PříbramCena:790\,-\nMartina Pártlová vyráží na podzimní koncertní turné\nPo úspěchu svých sólových koncertů\, včetně třikrát vyprodaného Fóra Karlín\, se Martina Pártlová vydává na podzimní turné po 17 českých a moravských městech. V období od 10. října do 13. prosince 2025 navštíví kulturní domy\, sály i kluby a nabídne svým fanouškům o něco intimnější\, ale o to hudebně silnější zážitek.\nMartina se tentokrát představí v čistě koncertní podobě se svou kapelou a výběrem písní z předešlé tvorby\, doplněných o novinky z aktuálně připravovaného alba. Celý večer bude postavený na čisté hudbě\, emocích a autentickém projevu\, který si její fanoušci zamilovali už během koncertů k prvnímu albu První a poslední?\n"Těším se\, že se s vámi potkám téměř na dotek. Klubové prostředí mě vždy přitahovalo a těším se na vůbec první sólové turné v mé kariéře. Bude to o hudbě\, o písničkách\, o tom\, proč to celé dělám a proč vy přicházíte\," říká Martina Pártlová k turné. "Mám kolem sebe skvělou kapelu a věřím\, že si společně uděláme večery\, které naplní naše srdce radostí a štěstím.\nFanoušci se mohou těšit na známé hity jako Si to udělám sama\, Když jdou holky ven\, Modlitba pro duši\, ale i novinky a nečekané hudební momenty - to vše s maximální muzikantskou poctivostí.\nTurné Martiny Pártlové nabídne 17 výjimečných večerů\, které připomenou\, že v jednoduchosti a přirozenosti je často ta největší síla.Vstup na akci od 19:00.\nPoskytované slevyZTP/P - Vstup zdarma (Doprovod hradí plné vstupné na místě)\nJiné slevy nejsou poskytovány.
LOCATION:Příbram
END:VEVENT
END:VCALENDAR