BEGIN:VCALENDAR
VERSION:2.0
CALSCALE:GREGORIAN
PRODID:-//MyApp//Calendar 1.0//EN
BEGIN:VEVENT
METHOD:PUBLISH
UID:54290@regionalniportaly.cz
DTSTAMP:20260422T205317Z
DTSTART;VALUE=DATE:20250905
DTEND;VALUE=DATE:20250906
SUMMARY:Koncert Mig 21- Příbram
DESCRIPTION:pátek 05.09.2025Letní kino Příbram\, Legionářů 378\, PříbramCena: 590\,-Kč
LOCATION:Příbram
END:VEVENT
END:VCALENDAR