BEGIN:VCALENDAR
VERSION:2.0
CALSCALE:GREGORIAN
PRODID:-//MyApp//Calendar 1.0//EN
BEGIN:VEVENT
METHOD:PUBLISH
UID:54096@regionalniportaly.cz
DTSTAMP:20260422T183507Z
DTSTART;VALUE=DATE:20250614
DTEND;VALUE=DATE:20250615
SUMMARY:Pohádková stezka /  Příbram
DESCRIPTION:🌟 Nejoblíbenější Týnky pohádková stezka míří do Příbrami! 🌟Potkejte své oblíbené pohádkové kamarády!🎉&nbsp\;Na trase Vás čekají zábavné úkoly pro děti\, ale také Vaši oblíbení pohádkový kamarádi třeba z Tlapkové patroly\, Ledového království\, Máši a medvěda\, králíčka Binga a mnoha dalších kamarádů\, které vaše děti zbožňují.&nbsp\;Nenechte si ujít tento jedinečný pohádkový zážitek s Vašimi dětmi.&nbsp\;Vhodné pro děti ve věku 2 – 7 let📅 Datum: 14. 06. 2025⏰ Čas: Najdete na své zakoupené vstupence📍 Místo: Lesopark Litavka\, Příbram (ul. Lazec)🚩 Start: https://en.mapy.cz/s/kukolurojo(Děti do 12 měsíců ZDARMA)Při příchodu se prosím zaregistrujte ve stánku. 🎪
LOCATION:Příbram
END:VEVENT
END:VCALENDAR