BEGIN:VCALENDAR
VERSION:2.0
CALSCALE:GREGORIAN
PRODID:-//MyApp//Calendar 1.0//EN
BEGIN:VEVENT
METHOD:PUBLISH
UID:53699@regionalniportaly.cz
DTSTAMP:20260422T200248Z
DTSTART;VALUE=DATE:20250430
DTEND;VALUE=DATE:20250501
SUMMARY:Prodáváme nevěstu
DESCRIPTION:Místo: Divadlo Příbram - Velká scéna\nPronájem. Dopolední uzavřené představení pro žáky 1. stupně ZŠ. Úprava opery B. Smetany v podání operního souboru Divadla J. K. Tyla. Pořádá Dvořákovo Příbramsko\, z.ú.\nZačátek akce: 30. 4. 2025 09:30\nKonec akce: 30. 4. 2025 11:30
LOCATION:Příbram
END:VEVENT
END:VCALENDAR