BEGIN:VCALENDAR
VERSION:2.0
CALSCALE:GREGORIAN
PRODID:-//MyApp//Calendar 1.0//EN
BEGIN:VEVENT
METHOD:PUBLISH
UID:53698@regionalniportaly.cz
DTSTAMP:20260422T183635Z
DTSTART;VALUE=DATE:20250429
DTEND;VALUE=DATE:20250430
SUMMARY:Kavárna U Nulté hodiny
DESCRIPTION:Místo: Divadlo Příbram - D-klub\nHostem Petra Bednáře bude herec Miroslav Hanuš.\nZačátek akce: 29. 4. 2025 19:00\nKonec akce: 29. 4. 2025 21:00
LOCATION:Příbram
END:VEVENT
END:VCALENDAR