BEGIN:VCALENDAR
VERSION:2.0
CALSCALE:GREGORIAN
PRODID:-//MyApp//Calendar 1.0//EN
BEGIN:VEVENT
METHOD:PUBLISH
UID:53697@regionalniportaly.cz
DTSTAMP:20260422T200258Z
DTSTART;VALUE=DATE:20250429
DTEND;VALUE=DATE:20250430
SUMMARY:VanSwing a Codex Temporis
DESCRIPTION:Petr Vrobel\, Jan Ježek\, Ondra Sobotka a Jirka Novotný v sestavě mandolína\, akustické kytary a kontrabas spolu s výraznou zpěvačkou Annou Mudrovou se představují jako plzeňský swingový kvintet vanSwing. Na koncertě vystoupí jako host příbramský sbor Codex Temporis pod vedením Lukáše Marka. V loňském roce tyto soubory vydaly společnou desku.Vstupné: 180 Kč | děti a studenti 50 Kč\nMísto konání: Waldorfská škola\nZačátek akce: 29. 4. 2025 18:00\nKonec akce: 29. 4. 2025 19:15
LOCATION:Příbram
END:VEVENT
END:VCALENDAR