BEGIN:VCALENDAR
VERSION:2.0
CALSCALE:GREGORIAN
PRODID:-//MyApp//Calendar 1.0//EN
BEGIN:VEVENT
METHOD:PUBLISH
UID:53695@regionalniportaly.cz
DTSTAMP:20260422T234647Z
DTSTART;VALUE=DATE:20250428
DTEND;VALUE=DATE:20250429
SUMMARY:Past na myši
DESCRIPTION:Místo: Divadlo Příbram - Velká scéna\nNejslavnější detektivka všech dob se v Anglii hraje nepřetržitě od své premiéry roku 1952. Co je důvodem? Jde o originální\, přitažlivý\, napínavý příběh\, prvotřídní postavy\, znamenitý humor a překvapivé rozuzlení. A i když ho třeba znáte\, my přidáme po všech stránkách poctivou divadelní práci včetně znamenité výpravy a skvělých herců\, takže stojí za to přijít\, i kdybyste předem věděli\, kdo je vrah! A víte to doopravdy?\nZačátek akce: 28. 4. 2025 19:00\nKonec akce: 28. 4. 2025 21:00
LOCATION:Příbram
END:VEVENT
END:VCALENDAR