BEGIN:VCALENDAR
VERSION:2.0
CALSCALE:GREGORIAN
PRODID:-//MyApp//Calendar 1.0//EN
BEGIN:VEVENT
METHOD:PUBLISH
UID:53691@regionalniportaly.cz
DTSTAMP:20260422T234554Z
DTSTART;VALUE=DATE:20250427
DTEND;VALUE=DATE:20250428
SUMMARY:Zlatovláska
DESCRIPTION:Místo: Divadlo Příbram - Velká scéna\nJednou přinesla kořenářka starému králi vzácného hada. "Kdo ho sní\, porozumí řeči zvířat"\, řekla. Kousek hada i přes přísný zákaz snědl mladý králův sloužící Jiřík. Král ho za to potrestal a poslal ho do světa\, aby mu přivedl nevěstu\, krásnou Zlatovlásku.\nZačátek akce: 27. 4. 2025 15:00\nKonec akce: 27. 4. 2025 17:00
LOCATION:Příbram
END:VEVENT
END:VCALENDAR