BEGIN:VCALENDAR
VERSION:2.0
CALSCALE:GREGORIAN
PRODID:-//MyApp//Calendar 1.0//EN
BEGIN:VEVENT
METHOD:PUBLISH
UID:53690@regionalniportaly.cz
DTSTAMP:20260422T234709Z
DTSTART;VALUE=DATE:20250426
DTEND;VALUE=DATE:20250427
SUMMARY:Ballet Magnificat
DESCRIPTION:Místo: Divadlo Příbram - Velká scéna\nBallet Magnificat je profesionální baletní soubor sídlící v hlavním městě amerického státu Mississippi\, Jacksonu. Tématem děje je Ježíšův odchod z nebeského trůnu\, aby mohl v tělesné formě sestoupit na zem a splnit svoji úlohu Spasitele\, Vykupitele\, a Mesiáše celého lidstva. Light Has Come (Přišlo světlo) vypráví tento příběh z pohledu andělů\, kteří jsou na každém kroku od Kristova Betlémského narození\, po jeho bolestivou smrt na kříži Golgoty\, až po zmrtvýchvstání a navrácení se zpět na jeho nebeský trůn.\nZačátek akce: 26. 4. 2025 19:00\nKonec akce: 26. 4. 2025 21:00
LOCATION:Příbram
END:VEVENT
END:VCALENDAR