BEGIN:VCALENDAR
VERSION:2.0
CALSCALE:GREGORIAN
PRODID:-//MyApp//Calendar 1.0//EN
BEGIN:VEVENT
METHOD:PUBLISH
UID:53688@regionalniportaly.cz
DTSTAMP:20260422T234759Z
DTSTART;VALUE=DATE:20250425
DTEND;VALUE=DATE:20250426
SUMMARY:Limonádový Joe
DESCRIPTION:Místo: Divadlo Příbram - Velká scéna\nVýpravná inscenace nesmrtelné parodie na westernové příběhy\, známé především díky filmovému zpracování. Limonádový Joe od svého zrodu vůbec nezestárnul\, je naopak stále živý a dnes i v mnohém aktuálnější. Jeho autor Jiří Brdečka si totiž dělá legraci nejen z naivních barvotiskových příběhů o "neohrožených mstitelích bezpráví"\, ale třeba i z fenoménu reklamy. V naší verzi se znovu setkáte nejen se všemi postavami a šlágry z filmu\, ale i s těmi\, které se z původní Brdečkovy hry do filmu nedostaly. Známé i nové písně zahraje naše divadelní kapela Los Trumberos. RežieRežie Milan Schejbal.
LOCATION:Příbram
END:VEVENT
END:VCALENDAR