BEGIN:VCALENDAR
VERSION:2.0
CALSCALE:GREGORIAN
PRODID:-//MyApp//Calendar 1.0//EN
BEGIN:VEVENT
METHOD:PUBLISH
UID:53279@regionalniportaly.cz
DTSTAMP:20260422T222104Z
DTSTART;VALUE=DATE:20250809
DTEND;VALUE=DATE:20250810
SUMMARY:Koncert kapely Brutus a Odyssea
DESCRIPTION:Na letní scéně Zámku v Králově Dvoře se v sobotu 9. srpna uskuteční koncert rockových kapel&nbsp\;Brutus a Odyssea. Koncert začne v 19 hodin a odstartuje ho vystupení kapely Brutus.Začátky skupiny Brutus se datují až do konce roku 1966\, kdy v Rakovníku vznikla kapela Mandragora. V době normalizace byla častokrát obtěžována státními úředníky\, kteří byli na Rakovnicku velmi aktivní a dokonce několikrát nucena činnost dočasně pozastavit. Po definitivním zákazu kapely na jaře 1973 se tehdejší členové rozhodli založit Elektronik\, který se vyznačoval tehdy populárním jazz-rockovým repertoárem. Po dalším zákazu pak v březnu 1980 konečně vznikl Brutus\, který navazoval na přímočařejší bigbít Mandragory. Mezi léty 1983-1989 vystupovali pod krycím jménem Kyklop. Před sametovou revolucí na podzim 1989 se vrátili k původnímu názvu Brutus\, který používají dodnes.Kapela Odyssea&nbsp\;je rocková skupina z Plzně. Vznikla v roce&nbsp\;1972&nbsp\;pod jménem Koule\, Vozembouch. Koncertuje nejčastěji na tanečních zábavách\, má za sebou již více než 6 tisíc vystoupení. Některá data mohou pocházet z datové položky.&nbsp\;Odyssea&nbsp\;se na začátku 80. let stala asi nejoblíbenější českou zábavovou kapelou\, ale jako jedna z mála souborů tohoto typu se dokázala prosadit i na koncertních pódiích. Důvod byl nasnadě - kapela měla totiž repertoár složený pouze z vlastních písniček\; kolem roku 1983 se hovořilo\, že jich je dokonce okolo sto třiceti . Z jejich charakteru šlo také poznat\, kdo je napsal - zatímco Andrejs skládal povětšinou tzv. „hitovky“ a Běhavý se orientoval na „tvrďárny“ pak Nový psal většinou skladby melodičtější\, vyhovující jeho hlasovému naturelu. O texty se staral kromě Nového a Andrejse také Pavel Půta\, známý z folkového dua Půta-Staněk.&nbsp\;
LOCATION:Králův Dvůr
END:VEVENT
END:VCALENDAR