BEGIN:VCALENDAR
VERSION:2.0
CALSCALE:GREGORIAN
PRODID:-//MyApp//Calendar 1.0//EN
BEGIN:VEVENT
METHOD:PUBLISH
UID:53090@regionalniportaly.cz
DTSTAMP:20260422T222212Z
DTSTART;VALUE=DATE:20250628
DTEND;VALUE=DATE:20250629
SUMMARY:Mamma Mia - hudební show
DESCRIPTION:Přijďte si užít příjemný hudební večer do Kulturního domu Tetín. Čeká na vás 90 minutový program\, kde uslyšíte všechny písně z filmu Mamma Mia v podání skvělých zpěváků a zpěvaček z české divadelní scény.A aby to nebylo jen o zpívání\, většina písní bude doprovázena tanečníky a jejich choreografiemi.Těšit se můžete i na propracované kostýmy\, vlastně vyrobené kulisy a skvělé osvětlení. Během celého vystoupení bude k dispozici stánek s merchem a občerstvením.
LOCATION:Tetín
END:VEVENT
END:VCALENDAR