BEGIN:VCALENDAR
VERSION:2.0
CALSCALE:GREGORIAN
PRODID:-//MyApp//Calendar 1.0//EN
BEGIN:VEVENT
METHOD:PUBLISH
UID:52965@regionalniportaly.cz
DTSTAMP:20260422T234809Z
DTSTART;VALUE=DATE:20250409
DTEND;VALUE=DATE:20250410
SUMMARY:Ples seniorů
DESCRIPTION:Místo: Divadlo Příbram - Estrádní sál
LOCATION:Příbram
END:VEVENT
END:VCALENDAR