BEGIN:VCALENDAR
VERSION:2.0
CALSCALE:GREGORIAN
PRODID:-//MyApp//Calendar 1.0//EN
BEGIN:VEVENT
METHOD:PUBLISH
UID:51803@regionalniportaly.cz
DTSTAMP:20260422T215830Z
DTSTART;VALUE=DATE:20250630
DTEND;VALUE=DATE:20250701
SUMMARY:Čtyři dohody
DESCRIPTION:Čtyři dohody Autor: Don Miguel RuizV hlavní roli tohoto divadelního představení je Jaroslav Dušek.Spoluúčinkují: Pjér La Š´éz a Zdeněk Konopásek\, světelný design Viktor Zborník\, zvuk Martin Dušek.&nbsp\;Ve Čtyřech dohodách odhaluje Don Miguel Ruiz zdroj omezujících názorů\, které připravují o radost a vedou ke zbytečnému utrpení. Čtyři dohody založené na stare toltécké moudrosti\, nabízejí silný kód chování\, který dokáže rychle proměnit náš život v nový prožitek svobody\, opravdového štěstí a lásky.Anotace: nehřešte slovem\, neberte si nic osobně\, nevytvářejte si žádné domněnky\, dělejte vše\, jak nejlépe dovedete.&nbsp\;Hra je zpracována velmi odlehčeně\, promítne se v nadsázce\, volně zpracovaná\, improvizujeme.&nbsp\;
LOCATION:Příbram
END:VEVENT
END:VCALENDAR